BEGIN:VCALENDAR
VERSION:2.0
PRODID:-//Music Hackspace - ECPv6.15.20//NONSGML v1.0//EN
CALSCALE:GREGORIAN
METHOD:PUBLISH
X-ORIGINAL-URL:https://musichackspace.org
X-WR-CALDESC:Events for Music Hackspace
REFRESH-INTERVAL;VALUE=DURATION:PT1H
X-Robots-Tag:noindex
X-PUBLISHED-TTL:PT1H
BEGIN:VTIMEZONE
TZID:Europe/London
BEGIN:DAYLIGHT
TZOFFSETFROM:+0000
TZOFFSETTO:+0100
TZNAME:BST
DTSTART:20150329T010000
END:DAYLIGHT
BEGIN:STANDARD
TZOFFSETFROM:+0100
TZOFFSETTO:+0000
TZNAME:GMT
DTSTART:20151025T010000
END:STANDARD
BEGIN:DAYLIGHT
TZOFFSETFROM:+0000
TZOFFSETTO:+0100
TZNAME:BST
DTSTART:20160327T010000
END:DAYLIGHT
BEGIN:STANDARD
TZOFFSETFROM:+0100
TZOFFSETTO:+0000
TZNAME:GMT
DTSTART:20161030T010000
END:STANDARD
BEGIN:DAYLIGHT
TZOFFSETFROM:+0000
TZOFFSETTO:+0100
TZNAME:BST
DTSTART:20170326T010000
END:DAYLIGHT
BEGIN:STANDARD
TZOFFSETFROM:+0100
TZOFFSETTO:+0000
TZNAME:GMT
DTSTART:20171029T010000
END:STANDARD
END:VTIMEZONE
BEGIN:VEVENT
DTSTART;TZID=Europe/London:20160413T190000
DTEND;TZID=Europe/London:20160413T210000
DTSTAMP:20260423T205200
CREATED:20160311T132326Z
LAST-MODIFIED:20160316T122739Z
UID:10000594-1460574000-1460581200@musichackspace.org
SUMMARY:SuperCollider with Shelly Knotts – Sound Unfolded Workshops 2016
DESCRIPTION:Learn the basics of setting up a live coding session and making soundscapes and beats with sound synthesis and patterns in SuperCollider. \n  \n\n\nBuy Live Coding in SuperCollider – class with Shelley Knots\, 13 April\nSuperCollider is an incredibly powerful\, open-source\, cross-platform\, audio engine and programming language\, used not only to create music\, but also for machine listening\, audio/music reactive installations\, performance\, interactive systems\, research\, live-coding and much more. \nYou will need your own computer (OSX / Windows/ Linux)\, and a pair of headphones. \nThis workshop is part of #SoundUnfolded and will be the first of a series of software sessions taking place in the Machines Room classroom. \nFor any questions please email workshops@stagingmhs.local \n  \n\n\nBuy Live Coding in SuperCollider – class with Shelley Knots\, 13 April\nThis programme is supported using public funding by Arts Council England.
URL:https://musichackspace.org/event/live-coding-in-supercollider-class-with-shelley-knots/
LOCATION:Machines Room\, 45 Vyner St\, London \, London\, E2 9DQ\, United Kingdom
ATTACH;FMTTYPE=image/webp:https://musichackspace.org/wp-content/uploads/2016/03/supercollider01-e1457702413509.webp
END:VEVENT
END:VCALENDAR