BEGIN:VCALENDAR
VERSION:2.0
PRODID:-//Music Hackspace - ECPv6.15.20//NONSGML v1.0//EN
CALSCALE:GREGORIAN
METHOD:PUBLISH
X-WR-CALNAME:Music Hackspace
X-ORIGINAL-URL:https://musichackspace.org
X-WR-CALDESC:Events for Music Hackspace
REFRESH-INTERVAL;VALUE=DURATION:PT1H
X-Robots-Tag:noindex
X-PUBLISHED-TTL:PT1H
BEGIN:VTIMEZONE
TZID:Europe/London
BEGIN:DAYLIGHT
TZOFFSETFROM:+0000
TZOFFSETTO:+0100
TZNAME:BST
DTSTART:20150329T010000
END:DAYLIGHT
BEGIN:STANDARD
TZOFFSETFROM:+0100
TZOFFSETTO:+0000
TZNAME:GMT
DTSTART:20151025T010000
END:STANDARD
BEGIN:DAYLIGHT
TZOFFSETFROM:+0000
TZOFFSETTO:+0100
TZNAME:BST
DTSTART:20160327T010000
END:DAYLIGHT
BEGIN:STANDARD
TZOFFSETFROM:+0100
TZOFFSETTO:+0000
TZNAME:GMT
DTSTART:20161030T010000
END:STANDARD
BEGIN:DAYLIGHT
TZOFFSETFROM:+0000
TZOFFSETTO:+0100
TZNAME:BST
DTSTART:20170326T010000
END:DAYLIGHT
BEGIN:STANDARD
TZOFFSETFROM:+0100
TZOFFSETTO:+0000
TZNAME:GMT
DTSTART:20171029T010000
END:STANDARD
END:VTIMEZONE
BEGIN:VEVENT
DTSTART;TZID=Europe/London:20160411T190000
DTEND;TZID=Europe/London:20160411T213000
DTSTAMP:20260423T210758
CREATED:20160329T155100Z
LAST-MODIFIED:20160330T092537Z
UID:10000649-1460401200-1460410200@musichackspace.org
SUMMARY:Artist Talk & Demo – Signum device with Víctor Mazón Gardoqui
DESCRIPTION:Listen to electromagnetic waves caused by modern devices and natural forces. Hear the patterns of ultraviolet and infrared light; the vibrations of ferric objects; the friction caused by insects and underwater sounds. Listen to the noise of tectonic movements\, or of lighting phenomena thousands of kilometers distant. These are just a few of the hidden sounds that we will listen during the event on monday 11th April\, after the hands on workshop in Cafe OTO on the 9th and 10th April. \nWe will have the chance to see the signum device in action\, exploring how different artists use the device during a practice based event lead by Víctor Mazón Gardoqui and with composer Neil Kaczor as special guest. \n \nThe talk will follow from a workshop at Cafe OTO on 9th and 10th of April. Register to the workshop! \nSIGNUM device is a translator – it uncovers the encrypted codes of information and the language of man/machine communication- which remain unintelligible without technical aid. Sharpening our awareness about what surrounds us\, we will capture radio waves\, FM/AM\, ultrasounds\, translocal network connections\, personal broadcast spaces\, inaudible electromagnetic fields\, photoelectric effects\, etc\, read with a micro controller like an Arduino\, Pic or a raspberry pi. SIGNUM can be used for various applications and in different environments: for the measurement and analysis of different signals through its 8 sensors and inputs\, for field recordings\, music composition or for aesthetic purposes within the sound or visual art praxis\, as it has the unique ability to provide a wide sound palette and hard-to-identify sounds. The device is intended as an experimental tool for educational purposes and artistic practice. \n \nThe Music Hackspace programme is support through public funding by Arts Council England.
URL:https://musichackspace.org/event/artist-talk-demo-signum-device-with-victor-mazon-gardoqui/
LOCATION:LimeWharf\, Vyner St\, London\, E2 9DJ
ATTACH;FMTTYPE=image/webp:https://musichackspace.org/wp-content/uploads/2016/03/Victor_mazon_Signum_piezo_rojo_02-e1459268719619.webp
END:VEVENT
END:VCALENDAR