BEGIN:VCALENDAR
VERSION:2.0
PRODID:-//Music Hackspace - ECPv6.15.20//NONSGML v1.0//EN
CALSCALE:GREGORIAN
METHOD:PUBLISH
X-WR-CALNAME:Music Hackspace
X-ORIGINAL-URL:https://musichackspace.org
X-WR-CALDESC:Events for Music Hackspace
REFRESH-INTERVAL;VALUE=DURATION:PT1H
X-Robots-Tag:noindex
X-PUBLISHED-TTL:PT1H
BEGIN:VTIMEZONE
TZID:Europe/London
BEGIN:DAYLIGHT
TZOFFSETFROM:+0000
TZOFFSETTO:+0100
TZNAME:BST
DTSTART:20140330T010000
END:DAYLIGHT
BEGIN:STANDARD
TZOFFSETFROM:+0100
TZOFFSETTO:+0000
TZNAME:GMT
DTSTART:20141026T010000
END:STANDARD
BEGIN:DAYLIGHT
TZOFFSETFROM:+0000
TZOFFSETTO:+0100
TZNAME:BST
DTSTART:20150329T010000
END:DAYLIGHT
BEGIN:STANDARD
TZOFFSETFROM:+0100
TZOFFSETTO:+0000
TZNAME:GMT
DTSTART:20151025T010000
END:STANDARD
BEGIN:DAYLIGHT
TZOFFSETFROM:+0000
TZOFFSETTO:+0100
TZNAME:BST
DTSTART:20160327T010000
END:DAYLIGHT
BEGIN:STANDARD
TZOFFSETFROM:+0100
TZOFFSETTO:+0000
TZNAME:GMT
DTSTART:20161030T010000
END:STANDARD
END:VTIMEZONE
BEGIN:VEVENT
DTSTART;TZID=Europe/London:20150917T190000
DTEND;TZID=Europe/London:20150917T213000
DTSTAMP:20260424T140331
CREATED:20150806T104328Z
LAST-MODIFIED:20150818T091053Z
UID:10000624-1442516400-1442525400@musichackspace.org
SUMMARY:Tara Pattenden - Artist Talk at Music Hackspace
DESCRIPTION:Tara Pattenden is an artist\, musician and maker of electronic noise\ninstruments. For the past 5 years she has been working with soft\ncircuitry to create interfaces for audio electronics that manipulate\nsound through touch and movement. She will be presenting and\ndiscussing some of her creations. \nAs Phantom Chips she performs with an array of home made electronic\ninstruments\, samplers and wearable noisemakers. Concocting rhythms\nfrom manipulated found and recorded sounds Phantom Chips invites the\naudience to wear and play her costumes and join in with the audio. The\ncostumes create sound through movement and allow audience members to\nexperiment with a brand-new form of musical expression. The\ndeliberately clumsy and awkward interfaces invite playfulness and\nimprovisation. \nAustralian-born Tara Pattenden works in the field of analog\nelectronics\, noise performance and soft circuitry. She has been making\ninteractive noise and mess for over 15 years performing with kunt\,\nmonster zoku onsomb and various other collaborators. \n \n  \n \n  \n  \n  \nThis programme is supported using public funding by the National Lottery through Arts Council England.
URL:https://musichackspace.org/event/tara-pattenden-artist-talk-at-music-hackspace/
LOCATION:Music Hackspace\, Somerset House\, West Service Yard\, Victoria Embankment\, London\, WC2R 1LA\, United Kingdom
ATTACH;FMTTYPE=image/webp:https://musichackspace.org/wp-content/uploads/2015/08/phantomchiops-e1438856149170.jpg
END:VEVENT
END:VCALENDAR