BEGIN:VCALENDAR
VERSION:2.0
PRODID:-//Music Hackspace - ECPv6.15.20//NONSGML v1.0//EN
CALSCALE:GREGORIAN
METHOD:PUBLISH
X-WR-CALNAME:Music Hackspace
X-ORIGINAL-URL:https://musichackspace.org
X-WR-CALDESC:Events for Music Hackspace
REFRESH-INTERVAL;VALUE=DURATION:PT1H
X-Robots-Tag:noindex
X-PUBLISHED-TTL:PT1H
BEGIN:VTIMEZONE
TZID:Europe/London
BEGIN:DAYLIGHT
TZOFFSETFROM:+0000
TZOFFSETTO:+0100
TZNAME:BST
DTSTART:20140330T010000
END:DAYLIGHT
BEGIN:STANDARD
TZOFFSETFROM:+0100
TZOFFSETTO:+0000
TZNAME:GMT
DTSTART:20141026T010000
END:STANDARD
BEGIN:DAYLIGHT
TZOFFSETFROM:+0000
TZOFFSETTO:+0100
TZNAME:BST
DTSTART:20150329T010000
END:DAYLIGHT
BEGIN:STANDARD
TZOFFSETFROM:+0100
TZOFFSETTO:+0000
TZNAME:GMT
DTSTART:20151025T010000
END:STANDARD
BEGIN:DAYLIGHT
TZOFFSETFROM:+0000
TZOFFSETTO:+0100
TZNAME:BST
DTSTART:20160327T010000
END:DAYLIGHT
BEGIN:STANDARD
TZOFFSETFROM:+0100
TZOFFSETTO:+0000
TZNAME:GMT
DTSTART:20161030T010000
END:STANDARD
BEGIN:DAYLIGHT
TZOFFSETFROM:+0000
TZOFFSETTO:+0100
TZNAME:BST
DTSTART:20170326T010000
END:DAYLIGHT
BEGIN:STANDARD
TZOFFSETFROM:+0100
TZOFFSETTO:+0000
TZNAME:GMT
DTSTART:20171029T010000
END:STANDARD
END:VTIMEZONE
BEGIN:VEVENT
DTSTART;TZID=Europe/London:20160206T110000
DTEND;TZID=Europe/London:20160207T190000
DTSTAMP:20260421T124933
CREATED:20160111T165110Z
LAST-MODIFIED:20160126T145801Z
UID:10000574-1454756400-1454871600@musichackspace.org
SUMMARY:Befaco Modular Synth Workshop\, 6th and 7th Feb 2016
DESCRIPTION:We welcome Befaco for the first of our 2016 Music Hackspace workshops at Limewharf. Join us for a weekend of DIY modular synth making on 6th and 7th February 2016! \nHANDS ON WORKSHOP: build your own synth modules on eurorack format. We provide all the necessary components to build your device from scratch. Each participant builds her/his own machine during the workshop. \nREGISTRATION. Please note a minimum number of participants is required for this workshop to take place\, so please book your place asap! \n\n\nBuy Befaco Workshop registration\, 6th and 7th Feb \nWith this item you will be booking a spot in our workshop.Please send an email to workshops@stagingmhs.local indicating which module/s you want to build. This £20 booking fee will be deducted during the workshop from the price of the kit of your choice. Please note there will be no refunds in case of cancelling / not showing.Thanks for the reservation and see you soon! \nChoose which Befaco module/s to build: \nSpring reverb – 150 GBP \nEven VCO – 130 GBP \nBF22 VCF – 140 GBP \nRampage – 170 GBP \nInstrument Interface – 125 GBP \nOutput module – 70 GBP \nMixer – 55 GBP \nCrush Delay v2 – 130 GBP \nHexa VCA – 150 GBP \nDual Atenuverter – 55 GBP \nSlew Limiter – 65 GBP \nSampling Mod – 130 GBP \nPower supply + Power bus – 90 GBP \nPower Bus – 50 GBP \nRequired skills: interest and patience. No previous experience in electronics is necessary. \nRequired materials: Fine tip soldering iron less than 25w is recommended (we can provide some soldering irons and hand tools for participants who don’t have their own). \nWhen: Sat 6th  and Sun 7th February 2016\, 11am to 7 pm. \nWhere: Music Hackspace @ LimeWharf Yard. LimeWharf\, Vyner Street E2 9DJ London \nIf you have any questions please email us at: workshops@stagingmhs.local \nBefaco is a Synth DIY/open hardware platform focused on designing modules and organizing modular synth workshops regularly in Madrid\, Barcelona\, Berlin and London. Befaco Workshops FAQ’s.
URL:https://musichackspace.org/event/befaco-modular-synth-workshop-6th-and-7th-feb-2016/
LOCATION:LimeWharf\, Vyner St\, London\, E2 9DJ
ATTACH;FMTTYPE=image/webp:https://musichackspace.org/wp-content/uploads/2016/01/Rampage_foto.webp
END:VEVENT
BEGIN:VEVENT
DTSTART;TZID=Europe/London:20160104T180000
DTEND;TZID=Europe/London:20160104T213000
DTSTAMP:20260421T124933
CREATED:20151218T181834Z
LAST-MODIFIED:20151221T124323Z
UID:10000572-1451930400-1451943000@musichackspace.org
SUMMARY:Speakers Cultures\, Monday night group - 4th Jan
DESCRIPTION:We will resume our Monday evening meet ups on Monday 4th Jan at the new space in LimeWharf (Vyner St\, London E2 9DJ)! Get involved in Music Hackspace’s ‘DIY speakers’ project! Alternatively you can bring along a new project to work on independently or to share with the group. To be included in the Monday evening’s ‘DIY speakers’ mail group\, email curators@stagingmhs.local \n  \n \n  \nOur new address is LimeWharf (Vyner St\, London E2 9DJ). The nearest tube station is Bethnal Green or Cambridge Heath overground.
URL:https://musichackspace.org/event/speakers-cultures-monday-night-group-4th-jan/
LOCATION:LimeWharf\, Vyner St\, London\, E2 9DJ
ATTACH;FMTTYPE=image/webp:https://musichackspace.org/wp-content/uploads/2015/12/IMG_26511-e1450461724224.webp
END:VEVENT
BEGIN:VEVENT
DTSTART;TZID=Europe/London:20151217T190000
DTEND;TZID=Europe/London:20151217T220000
DTSTAMP:20260421T124933
CREATED:20151203T103301Z
LAST-MODIFIED:20151210T134151Z
UID:10000570-1450378800-1450389600@musichackspace.org
SUMMARY:Music Hackspace at LimeWharf - Launch Party
DESCRIPTION:We are moving to the creative lab and cultural innovation centre LimeWharf! Which means celebration is in order! Join us for the inaugural event at our new space\, a launch party to celebrate our new partnership with the awesome LimeWharf. \nJust a few minutes from our former home at Containerville\, we’ll form part of the cultural innovation hub and artistic laboratory that is LimeWharf\, surrounded by awesome people\, with a larger space to host events & seminars\, and even a fully licensed bar. \nFeaturing performances from: \n~7:30 – LESLIE DEERE:\nOriginally from Tennessee\, Leslie moved to the UK to study Sonic Art\, continuing from a performing arts dance background in NYC. One of the current Music Hackspace artists in residence\, Leslie’s live performances use analogue and digital audio equipment alongside field recordings and her lo-fi video projections\, to make abstract and absorbing drone collages.\n \n~8:15 – TOM FOX:\nTom Fox is a craftsman\, maker and pioneer in the search for new sounds and the development of truly unique instruments. Many of you probably know Tom’s project\, Vulpestruments – a collection of hand-built noise machines fashioned from as much recycled and reclaimed materials as possible. From the strings to the pickups and the tuning pins\, these unexpected sources make genuinely remarkable sounds. \n~9:00 – ADAM JOHN WILLIAMS:\nA familiar face at Music Hackspace\, curating this evening we have Adam John Williams\, who will also perform some psychoacoustics-infused-electronica from his current project\, Research-Driven Dance Music. \n+ Special guest DJ: ELECTRONIC ELEMENT\nElectronic Element a.k.a. Ivaylo Chichanov will be our DJ for the evening\, shepherding us through the void between live performances to keep everybody dancing. \nThis is the start of a fantastic new chapter for us. Music Hackspace was founded as a creative & social hub for the community that surrounds it\, and without that amazing community we simply would not exist\, so let’s all celebrate together. \nEntry is FREE! \nDirections
URL:https://musichackspace.org/event/music-hackspace-at-limewharf-launch-party/
LOCATION:LimeWharf\, Vyner St\, London\, E2 9DJ
ATTACH;FMTTYPE=image/webp:https://musichackspace.org/wp-content/uploads/2015/12/12357188_914177895341003_3980410411120496665_o-e1449681460154.webp
END:VEVENT
END:VCALENDAR